BEGIN:VCALENDAR
VERSION:2.0
PRODID:-//Dreisesselschützen Jandelsbrunn - ECPv6.15.20//NONSGML v1.0//EN
CALSCALE:GREGORIAN
METHOD:PUBLISH
X-ORIGINAL-URL:https://dreisesselschuetzen.de
X-WR-CALDESC:Veranstaltungen für Dreisesselschützen Jandelsbrunn
REFRESH-INTERVAL;VALUE=DURATION:PT1H
X-Robots-Tag:noindex
X-PUBLISHED-TTL:PT1H
BEGIN:VTIMEZONE
TZID:Europe/Berlin
BEGIN:DAYLIGHT
TZOFFSETFROM:+0100
TZOFFSETTO:+0200
TZNAME:CEST
DTSTART:20230326T010000
END:DAYLIGHT
BEGIN:STANDARD
TZOFFSETFROM:+0200
TZOFFSETTO:+0100
TZNAME:CET
DTSTART:20231029T010000
END:STANDARD
BEGIN:DAYLIGHT
TZOFFSETFROM:+0100
TZOFFSETTO:+0200
TZNAME:CEST
DTSTART:20240331T010000
END:DAYLIGHT
BEGIN:STANDARD
TZOFFSETFROM:+0200
TZOFFSETTO:+0100
TZNAME:CET
DTSTART:20241027T010000
END:STANDARD
BEGIN:DAYLIGHT
TZOFFSETFROM:+0100
TZOFFSETTO:+0200
TZNAME:CEST
DTSTART:20250330T010000
END:DAYLIGHT
BEGIN:STANDARD
TZOFFSETFROM:+0200
TZOFFSETTO:+0100
TZNAME:CET
DTSTART:20251026T010000
END:STANDARD
END:VTIMEZONE
BEGIN:VEVENT
DTSTART;VALUE=DATE:20240508
DTEND;VALUE=DATE:20240513
DTSTAMP:20260420T212212
CREATED:20240308T170004Z
LAST-MODIFIED:20240319T231535Z
UID:838-1715126400-1715558399@dreisesselschuetzen.de
SUMMARY:Dorffest Jandelsbrunn
DESCRIPTION:
URL:https://dreisesselschuetzen.de/event/dorffest-jandelsbrunn/
LOCATION:Jandelsbrunn\, Hauptstraße 28\, Jandelsbrunn\, Bayern\, 94118\, Deutschland
CATEGORIES:Dorffest
ATTACH;FMTTYPE=image/webp:https://dreisesselschuetzen.de/wp-content/uploads/2024/03/Dorffest-2024.webp
END:VEVENT
END:VCALENDAR